BEGIN:VCALENDAR
VERSION:2.0
PRODID:SchoolNow
CALSCALE:GREGORIAN
BEGIN:VEVENT
UID:73b02e4c-8898-11ee-bdd2-0a58a9feac02
DTSTAMP:20231121T180901Z
SUMMARY:CDD Board Meeting Oct. 2023
LOCATION:The Fruitland Park Library located at 604 W. Berckman Street\, Fru
 itland Park\, FL 34731
URL;VALUE=URI:https://www.hammockoakscdd.net/calendar/4962581/cdd-board-mee
 ting-oct-2023
DTSTART:20231009T143000Z
DTEND:20231009T153000Z
ATTACH;FILENAME=2023-10-09 HOCDD Agenda.pdf;FMTTYPE=application/pdf:https:/
 /campussuite-storage.s3.amazonaws.com/prod/1559197/45795fe4-8497-11ee-b553
 -0a58a9feac02/2703777/00be226c-8899-11ee-925c-0a58a9feac02/file/2023-10-09
  HOCDD Agenda.pdf
END:VEVENT
END:VCALENDAR
