BEGIN:VCALENDAR
VERSION:2.0
PRODID:SchoolNow
CALSCALE:GREGORIAN
BEGIN:VEVENT
UID:aacd6d40-8898-11ee-9f47-0a58a9feac02
DTSTAMP:20231121T180917Z
SUMMARY:CDD Board Meeting Nov. 2023
LOCATION:The Fruitland Park Library located at 604 W. Berckman Street\, Fru
 itland Park\, FL 34731
URL;VALUE=URI:https://www.hammockoakscdd.net/calendar/4962582/cdd-board-mee
 ting-nov-2023
DTSTART:20231113T153000Z
DTEND:20231113T163000Z
ATTACH;FILENAME=2023-11-13 HOCDD Agenda.pdf;FMTTYPE=application/pdf:https:/
 /campussuite-storage.s3.amazonaws.com/prod/1559197/45795fe4-8497-11ee-b553
 -0a58a9feac02/2703778/00be287a-8899-11ee-ba1a-0a58a9feac02/file/2023-11-13
  HOCDD Agenda.pdf
END:VEVENT
END:VCALENDAR
