BEGIN:VCALENDAR
VERSION:2.0
PRODID:SchoolNow
CALSCALE:GREGORIAN
BEGIN:VEVENT
UID:d45d4d60-8898-11ee-a345-0e6dcde47fa9
DTSTAMP:20231204T144333Z
SUMMARY:CDD Board Meeting Dec. 2023 - Cancelled
LOCATION:The Fruitland Park Library located at 604 W. Berckman Street\, Fru
 itland Park\, FL 34731
URL;VALUE=URI:https://www.hammockoakscdd.net/calendar/4962583/cdd-board-mee
 ting-dec-2023
DTSTART:20231211T153000Z
DTEND:20231211T163000Z
END:VEVENT
END:VCALENDAR
