BEGIN:VCALENDAR
VERSION:2.0
PRODID:SchoolNow
CALSCALE:GREGORIAN
BEGIN:VEVENT
UID:4e1dea74-8899-11ee-922b-0a58a9feac02
DTSTAMP:20240105T130447Z
SUMMARY:CDD Board Meeting Jan. 2024
LOCATION:The Fruitland Park Library located at 604 W. Berckman Street\, Fru
 itland Park\, FL 34731
URL;VALUE=URI:https://www.hammockoakscdd.net/calendar/4962584/cdd-board-mee
 ting-jan-2024
DTSTART:20240108T153000Z
DTEND:20240108T163000Z
ATTACH;FILENAME=2024-01-08 Hammock Oaks CDD Revised Final Agenda.pdf;FMTTYP
 E=application/pdf:https://campussuite-storage.s3.amazonaws.com/prod/155919
 7/45795fe4-8497-11ee-b553-0a58a9feac02/2722481/f81d371a-abca-11ee-a3af-0a5
 8a9feac02/file/2024-01-08 Hammock Oaks CDD Revised Final Agenda.pdf
END:VEVENT
END:VCALENDAR
