BEGIN:VCALENDAR
VERSION:2.0
PRODID:SchoolNow
CALSCALE:GREGORIAN
BEGIN:VEVENT
UID:88642afe-8899-11ee-a14b-0a58a9feac02
DTSTAMP:20240304T192721Z
SUMMARY:Cancelled - CDD Board Meeting Mar. 2024
LOCATION:The Fruitland Park Library located at 604 W. Berckman Street\, Fru
 itland Park\, FL 34731
URL;VALUE=URI:https://www.hammockoakscdd.net/calendar/4962586/cdd-board-mee
 ting-mar-2024
DTSTART:20240311T153000Z
DTEND:20240311T163000Z
END:VEVENT
END:VCALENDAR
