BEGIN:VCALENDAR
VERSION:2.0
PRODID:SchoolNow
CALSCALE:GREGORIAN
BEGIN:VEVENT
UID:a96790ec-8899-11ee-9cc9-0a58a9feac02
DTSTAMP:20240328T122611Z
SUMMARY:Cancelled - CDD Board Meeting Apr. 2024
LOCATION:The Fruitland Park Library located at 604 W. Berckman Street\, Fru
 itland Park\, FL 34731
URL;VALUE=URI:https://www.hammockoakscdd.net/calendar/4962587/cdd-board-mee
 ting-apr-2024
DTSTART:20240408T153000Z
DTEND:20240408T163000Z
END:VEVENT
END:VCALENDAR
