BEGIN:VCALENDAR
VERSION:2.0
PRODID:SchoolNow
CALSCALE:GREGORIAN
BEGIN:VEVENT
UID:cbbbc366-8899-11ee-9001-0a85f67120cd
DTSTAMP:20240226T152001Z
SUMMARY:CDD Board Meeting May 2024
LOCATION:The Fruitland Park Library located at 604 W. Berckman Street\, Fru
 itland Park\, FL 34731
URL;VALUE=URI:https://www.hammockoakscdd.net/calendar/4962589/cdd-board-mee
 ting-may-2024
DTSTART:20240513T153000Z
DTEND:20240513T163000Z
END:VEVENT
END:VCALENDAR
