BEGIN:VCALENDAR
VERSION:2.0
PRODID:SchoolNow
CALSCALE:GREGORIAN
BEGIN:VEVENT
UID:ecfbae9c-8899-11ee-8e2e-0a58a9feac02
DTSTAMP:20240523T200951Z
SUMMARY:Cancelled - CDD Board Meeting Jun. 2024
LOCATION:The Fruitland Park Library located at 604 W. Berckman Street\, Fru
 itland Park\, FL 34731
URL;VALUE=URI:https://www.hammockoakscdd.net/calendar/4962591/cdd-board-mee
 ting-jun-2024
DTSTART:20240610T153000Z
DTEND:20240610T163000Z
END:VEVENT
END:VCALENDAR
