BEGIN:VCALENDAR
VERSION:2.0
PRODID:SchoolNow
CALSCALE:GREGORIAN
BEGIN:VEVENT
UID:0e0184f4-889a-11ee-a072-0a58a9feac02
DTSTAMP:20240226T152016Z
SUMMARY:CDD Board Meeting Jul. 2024
LOCATION:The Fruitland Park Library located at 604 W. Berckman Street\, Fru
 itland Park\, FL 34731
URL;VALUE=URI:https://www.hammockoakscdd.net/calendar/4962593/cdd-board-mee
 ting-jul-2024
DTSTART:20240708T153000Z
DTEND:20240708T163000Z
END:VEVENT
END:VCALENDAR
