BEGIN:VCALENDAR
VERSION:2.0
PRODID:SchoolNow
CALSCALE:GREGORIAN
BEGIN:VEVENT
UID:53d87a0a-889a-11ee-8944-0aa8c3f09419
DTSTAMP:20240805T153206Z
SUMMARY:CDD Board Meeting Aug. 2024
LOCATION:The Fruitland Park Library located at 604 W. Berckman Street\, Fru
 itland Park\, FL 34731
URL;VALUE=URI:https://www.hammockoakscdd.net/calendar/4962594/cdd-board-mee
 ting-aug-2024
DTSTART:20240812T153000Z
DTEND:20240812T163000Z
ATTACH;FILENAME=2024-08-12 - Hammock Oaks CDD Final Agenda.pdf;FMTTYPE=appl
 ication/pdf:https://campussuite-storage.s3.amazonaws.com/prod/1559197/4579
 5fe4-8497-11ee-b553-0a58a9feac02/2825504/d7c16186-533f-11ef-966f-0a58a9fea
 c02/file/2024-08-12 - Hammock Oaks CDD Final Agenda.pdf
END:VEVENT
END:VCALENDAR
