BEGIN:VCALENDAR
VERSION:2.0
PRODID:SchoolNow
CALSCALE:GREGORIAN
BEGIN:VEVENT
UID:8572af68-889a-11ee-a045-0a58a9feac02
DTSTAMP:20240827T131428Z
SUMMARY:Cancelled - CDD Board Meeting Sept. 2024
LOCATION:The Fruitland Park Library located at 604 W. Berckman Street\, Fru
 itland Park\, FL 34731
URL;VALUE=URI:https://www.hammockoakscdd.net/calendar/4962595/cancelled-cdd
 -board-meeting-sept-2024
DTSTART:20240909T153000Z
DTEND:20240909T163000Z
END:VEVENT
END:VCALENDAR
