BEGIN:VCALENDAR
VERSION:2.0
PRODID:SchoolNow
CALSCALE:GREGORIAN
BEGIN:VEVENT
UID:6a2e3344-896c-11ee-bad5-0a58a9feac02
DTSTAMP:20231122T192559Z
SUMMARY:CDD Board Meeting Oct. 2022 - Canceled
LOCATION:Fruitland Park Library\, 604 W. Berckman Street\, Fruitland Park\,
  Florida 34731
URL;VALUE=URI:https://www.hammockoakscdd.net/calendar/4964120/cdd-board-mee
 ting-oct-2022-canceled
DTSTART:20221010T143000Z
DTEND:20221010T153000Z
END:VEVENT
END:VCALENDAR
