BEGIN:VCALENDAR
VERSION:2.0
PRODID:SchoolNow
CALSCALE:GREGORIAN
BEGIN:VEVENT
UID:9766c510-896c-11ee-9d24-02fc7b087f83
DTSTAMP:20231122T192624Z
SUMMARY:CDD Board Meeting Nov. 2022 - Canceled
LOCATION:Fruitland Park Library\, 604 W. Berckman Street\, Fruitland Park\,
  Florida 34731
URL;VALUE=URI:https://www.hammockoakscdd.net/calendar/4964122/cdd-board-mee
 ting-nov-2022-canceled
DTSTART:20221114T153000Z
DTEND:20221114T163000Z
ATTACH;FILENAME=2022-11-14 HOCDD Agenda - Canceled.pdf;FMTTYPE=application/
 pdf:https://campussuite-storage.s3.amazonaws.com/prod/1559197/45795fe4-849
 7-11ee-b553-0a58a9feac02/2704315/92587aa2-896a-11ee-9a13-0a58a9feac02/file
 /2022-11-14 HOCDD Agenda - Canceled.pdf
END:VEVENT
END:VCALENDAR
