BEGIN:VCALENDAR
VERSION:2.0
PRODID:SchoolNow
CALSCALE:GREGORIAN
BEGIN:VEVENT
UID:b71791f0-896c-11ee-bee8-0a58a9feac02
DTSTAMP:20231122T192613Z
SUMMARY:CDD Board Meeting Dec. 2022 - Canceled
LOCATION:Fruitland Park Library\, 604 W. Berckman Street\, Fruitland Park\,
  Florida 34731
URL;VALUE=URI:https://www.hammockoakscdd.net/calendar/4964124/cdd-board-mee
 ting-dec-2022-canceled
DTSTART:20221212T153000Z
DTEND:20221212T163000Z
END:VEVENT
END:VCALENDAR
