BEGIN:VCALENDAR
VERSION:2.0
PRODID:SchoolNow
CALSCALE:GREGORIAN
BEGIN:VEVENT
UID:46f55a6e-896d-11ee-9e4e-0a58a9feac02
DTSTAMP:20231122T192812Z
SUMMARY:CDD Board Meeting Jan. 2023 - Canceled
LOCATION:Fruitland Park Library\, 604 W. Berckman Street\, Fruitland Park\,
  Florida 34731
URL;VALUE=URI:https://www.hammockoakscdd.net/calendar/4964129/cdd-board-mee
 ting-jan-2023-canceled
DTSTART:20230109T153000Z
DTEND:20230109T163000Z
ATTACH;FILENAME=2023-01-09 HOCDD Agenda.pdf;FMTTYPE=application/pdf:https:/
 /campussuite-storage.s3.amazonaws.com/prod/1559197/45795fe4-8497-11ee-b553
 -0a58a9feac02/2704316/925881b4-896a-11ee-b1d7-0a58a9feac02/file/2023-01-09
  HOCDD Agenda.pdf
END:VEVENT
END:VCALENDAR
