BEGIN:VCALENDAR
VERSION:2.0
PRODID:SchoolNow
CALSCALE:GREGORIAN
BEGIN:VEVENT
UID:9e27c22c-896d-11ee-8b0e-025ee5188603
DTSTAMP:20231122T193039Z
SUMMARY:CDD Board Meeting Mar. 2023 - Canceled
LOCATION:Fruitland Park Library\, 604 W. Berckman Street\, Fruitland Park\,
  Florida 34731
URL;VALUE=URI:https://www.hammockoakscdd.net/calendar/4964131/cdd-board-mee
 ting-mar-2023-canceled
DTSTART:20230313T143000Z
DTEND:20230313T153000Z
END:VEVENT
END:VCALENDAR
