BEGIN:VCALENDAR
VERSION:2.0
PRODID:SchoolNow
CALSCALE:GREGORIAN
BEGIN:VEVENT
UID:d02fe9ca-896d-11ee-9c50-0a58a9feac02
DTSTAMP:20231122T193203Z
SUMMARY:CDD Board Meeting Apr. 2023
LOCATION:Fruitland Park Library\, 604 W. Berckman Street\, Fruitland Park\,
  Florida 34731
URL;VALUE=URI:https://www.hammockoakscdd.net/calendar/4964132/cdd-board-mee
 ting-apr-2023
DTSTART:20230410T143000Z
DTEND:20230410T153000Z
ATTACH;FILENAME=2023-04-10 HOCDD Agenda.pdf;FMTTYPE=application/pdf:https:/
 /campussuite-storage.s3.amazonaws.com/prod/1559197/45795fe4-8497-11ee-b553
 -0a58a9feac02/2704318/925884fc-896a-11ee-afb2-0a58a9feac02/file/2023-04-10
  HOCDD Agenda.pdf
END:VEVENT
END:VCALENDAR
