BEGIN:VCALENDAR
VERSION:2.0
PRODID:SchoolNow
CALSCALE:GREGORIAN
BEGIN:VEVENT
UID:eb6f0d24-896d-11ee-aa9d-02fc7b087f83
DTSTAMP:20231122T193248Z
SUMMARY:CDD Board Meeting May 2023
LOCATION:Fruitland Park Library\, 604 W. Berckman Street\, Fruitland Park\,
  Florida 34731
URL;VALUE=URI:https://www.hammockoakscdd.net/calendar/4964133/cdd-board-mee
 ting-may-2023
DTSTART:20230508T143000Z
DTEND:20230508T153000Z
ATTACH;FILENAME=2023-05-08 HOCDD Agenda.pdf;FMTTYPE=application/pdf:https:/
 /campussuite-storage.s3.amazonaws.com/prod/1559197/45795fe4-8497-11ee-b553
 -0a58a9feac02/2704319/9258863c-896a-11ee-adc1-0a58a9feac02/file/2023-05-08
  HOCDD Agenda.pdf
END:VEVENT
END:VCALENDAR
