BEGIN:VCALENDAR
VERSION:2.0
PRODID:SchoolNow
CALSCALE:GREGORIAN
BEGIN:VEVENT
UID:0cc2e4c8-896e-11ee-939e-0e6a250b1071
DTSTAMP:20231122T193426Z
SUMMARY:CDD Board Meeting Jun. 2023 - Canceled
LOCATION:Fruitland Park Library\, 604 W. Berckman Street\, Fruitland Park\,
  Florida 34731
URL;VALUE=URI:https://www.hammockoakscdd.net/calendar/4964134/cdd-board-mee
 ting-jun-2023-canceled
DTSTART:20230612T143000Z
DTEND:20230612T153000Z
END:VEVENT
END:VCALENDAR
