BEGIN:VCALENDAR
VERSION:2.0
PRODID:SchoolNow
CALSCALE:GREGORIAN
BEGIN:VEVENT
UID:7abb2c38-896e-11ee-a6b0-025ee5188603
DTSTAMP:20231122T194124Z
SUMMARY:CDD Board Meeting Jun. 2023 - Public Hearing and Regular Meeting
LOCATION:Fruitland Park Library\, 604 W. Berckman Street\, Fruitland Park\,
  Florida 34731
URL;VALUE=URI:https://www.hammockoakscdd.net/calendar/4964135/cdd-board-mee
 ting-jun-2023-public-hearing-and-regular-meeting
DTSTART:20230626T143000Z
DTEND:20230626T153000Z
ATTACH;FILENAME=2023-06-26 HOCDD Agenda.pdf;FMTTYPE=application/pdf:https:/
 /campussuite-storage.s3.amazonaws.com/prod/1559197/45795fe4-8497-11ee-b553
 -0a58a9feac02/2704320/92588754-896a-11ee-b8ed-0a58a9feac02/file/2023-06-26
  HOCDD Agenda.pdf
END:VEVENT
END:VCALENDAR
