BEGIN:VCALENDAR
VERSION:2.0
PRODID:SchoolNow
CALSCALE:GREGORIAN
BEGIN:VEVENT
UID:d544f526-896e-11ee-a983-0a58a9feac02
DTSTAMP:20231122T194543Z
SUMMARY:CDD Board Meeting Jun. 2023 - Public Hearing and Regular Meeting
LOCATION:Fruitland Park Library\, 604 W. Berckman Street\, Fruitland Park\,
  Florida 34731
URL;VALUE=URI:https://www.hammockoakscdd.net/calendar/4964136/cdd-board-mee
 ting-jun-2023-clone
DTSTART:20230628T133000Z
DTEND:20230628T143000Z
ATTACH;FILENAME=2023-06-28 HOCDD Agenda.pdf;FMTTYPE=application/pdf:https:/
 /campussuite-storage.s3.amazonaws.com/prod/1559197/45795fe4-8497-11ee-b553
 -0a58a9feac02/2704321/9258886c-896a-11ee-a331-0a58a9feac02/file/2023-06-28
  HOCDD Agenda.pdf
END:VEVENT
END:VCALENDAR
