BEGIN:VCALENDAR
VERSION:2.0
PRODID:SchoolNow
CALSCALE:GREGORIAN
BEGIN:VEVENT
UID:0578272c-896f-11ee-b419-025ee5188603
DTSTAMP:20231122T194204Z
SUMMARY:CDD Board Meeting Jul. 2023
LOCATION:Fruitland Park Library\, 604 W. Berckman Street\, Fruitland Park\,
  Florida 34731
URL;VALUE=URI:https://www.hammockoakscdd.net/calendar/4964137/cdd-board-mee
 ting-jul-2023
DTSTART:20230710T143000Z
DTEND:20230710T153000Z
ATTACH;FILENAME=2023-07-10 HOCDD Agenda.pdf;FMTTYPE=application/pdf:https:/
 /campussuite-storage.s3.amazonaws.com/prod/1559197/45795fe4-8497-11ee-b553
 -0a58a9feac02/2704322/9258897a-896a-11ee-9dff-0a58a9feac02/file/2023-07-10
  HOCDD Agenda.pdf
END:VEVENT
END:VCALENDAR
