BEGIN:VCALENDAR
VERSION:2.0
PRODID:SchoolNow
CALSCALE:GREGORIAN
BEGIN:VEVENT
UID:787301f2-896f-11ee-b596-0a0bc7a28c9d
DTSTAMP:20231122T194355Z
SUMMARY:CDD Board Meeting Aug. 2023
LOCATION:Fruitland Park Library\, 604 W. Berckman Street\, Fruitland Park\,
  Florida 34731
URL;VALUE=URI:https://www.hammockoakscdd.net/calendar/4964138/cdd-board-mee
 ting-aug-2023
DTSTART:20230814T143000Z
DTEND:20230814T153000Z
ATTACH;FILENAME=2023-08-14 HOCDD Agenda.pdf;FMTTYPE=application/pdf:https:/
 /campussuite-storage.s3.amazonaws.com/prod/1559197/45795fe4-8497-11ee-b553
 -0a58a9feac02/2704323/92588a7e-896a-11ee-b690-0a58a9feac02/file/2023-08-14
  HOCDD Agenda.pdf
END:VEVENT
END:VCALENDAR
