BEGIN:VCALENDAR
VERSION:2.0
PRODID:SchoolNow
CALSCALE:GREGORIAN
BEGIN:VEVENT
UID:a55d43e4-896f-11ee-82c0-025ee5188603
DTSTAMP:20231122T194510Z
SUMMARY:CDD Board Meeting Sept. 2023
LOCATION:Fruitland Park Library\, 604 W. Berckman Street\, Fruitland Park\,
  Florida 34731
URL;VALUE=URI:https://www.hammockoakscdd.net/calendar/4964139/cdd-board-mee
 ting-sept-2023
DTSTART:20230911T143000Z
DTEND:20230911T153000Z
ATTACH;FILENAME=2023-09-11 HOCDD Agenda.pdf;FMTTYPE=application/pdf:https:/
 /campussuite-storage.s3.amazonaws.com/prod/1559197/45795fe4-8497-11ee-b553
 -0a58a9feac02/2704324/92588b8c-896a-11ee-a24b-0a58a9feac02/file/2023-09-11
  HOCDD Agenda.pdf
END:VEVENT
END:VCALENDAR
