BEGIN:VCALENDAR
VERSION:2.0
PRODID:SchoolNow
CALSCALE:GREGORIAN
BEGIN:VEVENT
UID:27c012ee-6093-11ef-a97d-0affcc96cba9
DTSTAMP:20241007T152102Z
SUMMARY:CDD Board Meeting Oct. 2024
LOCATION:The Fruitland Park Library located at 604 W. Berckman Street\, Fru
 itland Park\, FL 34731
URL;VALUE=URI:https://www.hammockoakscdd.net/calendar/6442560/cdd-board-mee
 ting-oct-2024
DTSTART:20241014T153000Z
DTEND:20241014T163000Z
ATTACH;FILENAME=2024-10-14 Hammock Oaks CDD FInal Agenda.pdf;FMTTYPE=applic
 ation/pdf:https://campussuite-storage.s3.amazonaws.com/prod/1559197/45795f
 e4-8497-11ee-b553-0a58a9feac02/2858513/bf706d50-84bf-11ef-b095-0a58a9feac0
 2/file/2024-10-14 Hammock Oaks CDD FInal Agenda.pdf
END:VEVENT
END:VCALENDAR
