BEGIN:VCALENDAR
VERSION:2.0
PRODID:SchoolNow
CALSCALE:GREGORIAN
BEGIN:VEVENT
UID:33e3595a-6093-11ef-9e0a-0a58a9feac02
DTSTAMP:20241107T201403Z
SUMMARY:CDD Board Meeting Nov. 2024
LOCATION:The Fruitland Park Library located at 604 W. Berckman Street\, Fru
 itland Park\, FL 34731
URL;VALUE=URI:https://www.hammockoakscdd.net/calendar/6442561/cdd-board-mee
 ting-nov-2024
DTSTART:20241118T163000Z
DTEND:20241118T173000Z
ATTACH;FILENAME=2024-11-18 Hammock Oaks CDD FInal Agenda.pdf;FMTTYPE=applic
 ation/pdf:https://campussuite-storage.s3.amazonaws.com/prod/1559197/45795f
 e4-8497-11ee-b553-0a58a9feac02/2876562/cf91ee82-9d44-11ef-a9cf-0a58a9feac0
 2/file/2024-11-18 Hammock Oaks CDD FInal Agenda.pdf
END:VEVENT
END:VCALENDAR
