BEGIN:VCALENDAR
VERSION:2.0
PRODID:SchoolNow
CALSCALE:GREGORIAN
BEGIN:VEVENT
UID:3db069be-6093-11ef-bb11-0a58a9feac02
DTSTAMP:20241202T164225Z
SUMMARY:CDD Board Meeting Dec. 2024
LOCATION:The Fruitland Park Library located at 604 W. Berckman Street\, Fru
 itland Park\, FL 34731
URL;VALUE=URI:https://www.hammockoakscdd.net/calendar/6442562/cdd-board-mee
 ting-dec-2024
DTSTART:20241209T163000Z
DTEND:20241209T173000Z
ATTACH;FILENAME=2024-12-09 Hammock Oaks CDD FInal Agenda.pdf;FMTTYPE=applic
 ation/pdf:https://campussuite-storage.s3.amazonaws.com/prod/1559197/45795f
 e4-8497-11ee-b553-0a58a9feac02/2885938/64a5d4c6-b0cc-11ef-9038-0a58a9feac0
 2/file/2024-12-09 Hammock Oaks CDD FInal Agenda.pdf
END:VEVENT
END:VCALENDAR
