BEGIN:VCALENDAR
VERSION:2.0
PRODID:SchoolNow
CALSCALE:GREGORIAN
BEGIN:VEVENT
UID:4bcebd5c-6093-11ef-a84a-0e2183b15417
DTSTAMP:20250110T171547Z
SUMMARY:CDD Board Meeting Jan. 2025
LOCATION:The Fruitland Park Library located at 604 W. Berckman Street\, Fru
 itland Park\, FL 34731
URL;VALUE=URI:https://www.hammockoakscdd.net/calendar/6442563/cdd-board-mee
 ting-jan-2025
DTSTART:20250113T163000Z
DTEND:20250113T173000Z
ATTACH;FILENAME=2025-01-13 Hammock Oaks CDD Revised FInal Agenda.pdf;FMTTYP
 E=application/pdf:https://campussuite-storage.s3.amazonaws.com/prod/155919
 7/45795fe4-8497-11ee-b553-0a58a9feac02/2901382/83f78fe0-cf76-11ef-8825-0ea
 deb2b21e5/file/2025-01-13 Hammock Oaks CDD Revised FInal Agenda.pdf
END:VEVENT
END:VCALENDAR
