BEGIN:VCALENDAR
VERSION:2.0
PRODID:SchoolNow
CALSCALE:GREGORIAN
BEGIN:VEVENT
UID:597202ac-6093-11ef-a60e-0a58a9feac02
DTSTAMP:20250207T211724Z
SUMMARY:CDD Board Meeting Feb. 2025
LOCATION:The Fruitland Park Library located at 604 W. Berckman Street\, Fru
 itland Park\, FL 34731
URL;VALUE=URI:https://www.hammockoakscdd.net/calendar/6442564/cdd-board-mee
 ting-feb-2025
DTSTART:20250210T163000Z
DTEND:20250210T173000Z
ATTACH;FILENAME=2025-02-10 Hammock Oaks CDD Revised Final Agenda VS 3.pdf;F
 MTTYPE=application/pdf:https://campussuite-storage.s3.amazonaws.com/prod/1
 559197/45795fe4-8497-11ee-b553-0a58a9feac02/2912942/e794ff5a-e598-11ef-bf8
 8-0a58a9feac02/file/2025-02-10 Hammock Oaks CDD Revised Final Agenda VS 3.
 pdf
END:VEVENT
END:VCALENDAR
