BEGIN:VCALENDAR
VERSION:2.0
PRODID:SchoolNow
CALSCALE:GREGORIAN
BEGIN:VEVENT
UID:62cee658-6093-11ef-a0d0-02bb2954524f
DTSTAMP:20250303T195359Z
SUMMARY:CDD Board Meeting Mar. 2025
LOCATION:The Fruitland Park Library located at 604 W. Berckman Street\, Fru
 itland Park\, FL 34731
URL;VALUE=URI:https://www.hammockoakscdd.net/calendar/6442565/cdd-board-mee
 ting-mar-2025
DTSTART:20250310T153000Z
DTEND:20250310T163000Z
ATTACH;FILENAME=2025-03-10 Hammock Oaks CDD Final Agenda.pdf;FMTTYPE=applic
 ation/pdf:https://campussuite-storage.s3.amazonaws.com/prod/1559197/45795f
 e4-8497-11ee-b553-0a58a9feac02/2922145/3b1be4bc-f869-11ef-814c-0a58a9feac0
 2/file/2025-03-10 Hammock Oaks CDD Final Agenda.pdf
END:VEVENT
END:VCALENDAR
