BEGIN:VCALENDAR
VERSION:2.0
PRODID:SchoolNow
CALSCALE:GREGORIAN
BEGIN:VEVENT
UID:700cd118-6093-11ef-98be-0a58a9feac02
DTSTAMP:20250403T122036Z
SUMMARY:CDD Board Meeting Apr. 2025 - Cancelled
LOCATION:The Fruitland Park Library located at 604 W. Berckman Street\, Fru
 itland Park\, FL 34731
URL;VALUE=URI:https://www.hammockoakscdd.net/calendar/6442566/cdd-board-mee
 ting-apr-2025
DTSTART:20250414T153000Z
DTEND:20250414T163000Z
END:VEVENT
END:VCALENDAR
