BEGIN:VCALENDAR
VERSION:2.0
PRODID:SchoolNow
CALSCALE:GREGORIAN
BEGIN:VEVENT
UID:7c19074c-6093-11ef-ae89-0affcc96cba9
DTSTAMP:20250505T144305Z
SUMMARY:CDD Board Meeting May 2025
LOCATION:The Fruitland Park Library located at 604 W. Berckman Street\, Fru
 itland Park\, FL 34731
URL;VALUE=URI:https://www.hammockoakscdd.net/calendar/6442567/cdd-board-mee
 ting-may-2025
DTSTART:20250512T153000Z
DTEND:20250512T163000Z
ATTACH;FILENAME=2025-05-12 Hammock Oaks CDD Final Agenda.pdf;FMTTYPE=applic
 ation/pdf:https://campussuite-storage.s3.amazonaws.com/prod/1559197/45795f
 e4-8497-11ee-b553-0a58a9feac02/2948746/3ce22d7e-29bf-11f0-8ef3-0237284ec1f
 f/file/2025-05-12 Hammock Oaks CDD Final Agenda.pdf
END:VEVENT
END:VCALENDAR
