BEGIN:VCALENDAR
VERSION:2.0
PRODID:SchoolNow
CALSCALE:GREGORIAN
BEGIN:VEVENT
UID:8628b8d6-6093-11ef-9457-0a58a9feac02
DTSTAMP:20250527T155618Z
SUMMARY:CDD Board Meeting Jun. 2025 - Cancelled
LOCATION:The Fruitland Park Library located at 604 W. Berckman Street\, Fru
 itland Park\, FL 34731
URL;VALUE=URI:https://www.hammockoakscdd.net/calendar/6442568/cdd-board-mee
 ting-jun-2025
DTSTART:20250609T153000Z
DTEND:20250609T163000Z
END:VEVENT
END:VCALENDAR
