BEGIN:VCALENDAR
VERSION:2.0
PRODID:SchoolNow
CALSCALE:GREGORIAN
BEGIN:VEVENT
UID:905c6582-6093-11ef-94ef-0e4beb05e9dd
DTSTAMP:20250703T201617Z
SUMMARY:CDD Board Meeting Jul. 2025
LOCATION:The Fruitland Park Library located at 604 W. Berckman Street\, Fru
 itland Park\, FL 34731
URL;VALUE=URI:https://www.hammockoakscdd.net/calendar/6442569/cdd-board-mee
 ting-jul-2025
DTSTART:20250714T153000Z
DTEND:20250714T163000Z
ATTACH;FILENAME=2025-07-14 Hammock Oaks CDD Final Agenda.pdf;FMTTYPE=applic
 ation/pdf:https://campussuite-storage.s3.amazonaws.com/prod/1559197/45795f
 e4-8497-11ee-b553-0a58a9feac02/2978549/8f97f59e-584a-11f0-ad17-0efa27d97e0
 1/file/2025-07-14 Hammock Oaks CDD Final Agenda.pdf
END:VEVENT
END:VCALENDAR
