BEGIN:VCALENDAR
VERSION:2.0
PRODID:SchoolNow
CALSCALE:GREGORIAN
BEGIN:VEVENT
UID:9bfa3e82-6093-11ef-b51b-0a58a9feac02
DTSTAMP:20250801T204143Z
SUMMARY:CDD Board Meeting Aug. 2025
LOCATION:The Fruitland Park Library located at 604 W. Berckman Street\, Fru
 itland Park\, FL 34731
URL;VALUE=URI:https://www.hammockoakscdd.net/calendar/6442570/cdd-board-mee
 ting-aug-2025
DTSTART:20250811T153000Z
DTEND:20250811T163000Z
ATTACH;FILENAME=2025-08-11 Hammock Oaks CDD Final Agenda.pdf;FMTTYPE=applic
 ation/pdf:https://campussuite-storage.s3.amazonaws.com/prod/1559197/45795f
 e4-8497-11ee-b553-0a58a9feac02/2988063/eaef2d98-6f17-11f0-a771-0a58a9feac0
 2/file/2025-08-11 Hammock Oaks CDD Final Agenda.pdf
END:VEVENT
END:VCALENDAR
