BEGIN:VCALENDAR
VERSION:2.0
PRODID:SchoolNow
CALSCALE:GREGORIAN
BEGIN:VEVENT
UID:a6cb6eda-6093-11ef-a911-0affef06be4d
DTSTAMP:20250826T205431Z
SUMMARY:CDD Board Meeting Sept. 2025 - Cancelled
LOCATION:The Fruitland Park Library located at 604 W. Berckman Street\, Fru
 itland Park\, FL 34731
URL;VALUE=URI:https://www.hammockoakscdd.net/calendar/6442571/cdd-board-mee
 ting-sept-2025
DTSTART:20250908T153000Z
DTEND:20250908T163000Z
END:VEVENT
END:VCALENDAR
