BEGIN:VCALENDAR
VERSION:2.0
PRODID:SchoolNow
CALSCALE:GREGORIAN
BEGIN:VEVENT
UID:70fbbb9e-75c8-11ef-8499-0a58a9feac02
DTSTAMP:20241029T135228Z
SUMMARY:Landowner Meeting - Nov. 2024
LOCATION:The Fruitland Park Library located at 604 W. Berckman Street\, Fru
 itland Park\, FL 34731
URL;VALUE=URI:https://www.hammockoakscdd.net/calendar/6633928/landowner-mee
 ting-nov-2024
DTSTART:20241105T163000Z
DTEND:20241105T173000Z
ATTACH;FILENAME=2024-11-05 Hammock Oaks CDD LO Final Agenda.pdf;FMTTYPE=app
 lication/pdf:https://campussuite-storage.s3.amazonaws.com/prod/1559197/457
 95fe4-8497-11ee-b553-0a58a9feac02/2869943/05b108bc-95fd-11ef-9b58-0affdf4b
 1157/file/2024-11-05 Hammock Oaks CDD LO Final Agenda.pdf
END:VEVENT
END:VCALENDAR
